BEGIN:VCALENDAR
VERSION:2.0
PRODID:icalendar-ruby
CALSCALE:GREGORIAN
METHOD:PUBLISH
BEGIN:VEVENT
DTSTAMP:20260424T002726Z
UID:61-474444@mapleridgebaptist.org
DTSTART:20261014T230000Z
DTEND:20261015T000000Z
CLASS:PUBLIC
CREATED:20260423T194751
DESCRIPTION:
LAST-MODIFIED:20260423T194751
LOCATION:
SUMMARY:Small Groups
URL;VALUE=URI:https://mapleridgebaptist.org/events/small-groups--61/2026-10
 -14
ATTACH;FILENAME="Image Feb 17, 2026 at 11_33_57 AM.png";FMTTYPE=image/png:h
 ttps://dq5pwpg1q8ru0.cloudfront.net/2026/02/17/16/35/14/5ec69cdb-ebd3-48a3
 -8fd5-27ae071c7923/Image%20Feb%2017,%202026%20at%2011_33_57%20AM.png
END:VEVENT
END:VCALENDAR
